BEGIN:VCALENDAR
VERSION:2.0
PRODID:-//Biomedical Engineering | BUET - ECPv6.9.0//NONSGML v1.0//EN
CALSCALE:GREGORIAN
METHOD:PUBLISH
X-WR-CALNAME:Biomedical Engineering | BUET
X-ORIGINAL-URL:https://bme.buet.ac.bd
X-WR-CALDESC:Events for Biomedical Engineering | BUET
REFRESH-INTERVAL;VALUE=DURATION:PT1H
X-Robots-Tag:noindex
X-PUBLISHED-TTL:PT1H
BEGIN:VTIMEZONE
TZID:UTC
BEGIN:STANDARD
TZOFFSETFROM:+0000
TZOFFSETTO:+0000
TZNAME:UTC
DTSTART:20170101T000000
END:STANDARD
END:VTIMEZONE
BEGIN:VEVENT
DTSTART;VALUE=DATE:20250419
DTEND;VALUE=DATE:20250420
DTSTAMP:20260423T060804
CREATED:20250414T140157Z
LAST-MODIFIED:20250414T140322Z
UID:7190-1745020800-1745107199@bme.buet.ac.bd
SUMMARY:Free EYE Camp organized by Bangladesh Eye Hospital and BME\, BUET
DESCRIPTION:The Department of Biomedical Engineering (BME) at BUET is excited to announce a Free Eye Camp event\, open for all. \nThe Free Eye Camp will feature a team of experienced eye specialists and doctors who will be present to perform a comprehensive eye check-up and provide you with the necessary guidance and recommendations. This is a wonderful opportunity to ensure your eye health\, so don’t miss out! The event is supported by Bangladesh Eye Hospital\, two leading names in the eye care industry. \nThe event will take place on Saturday\, April 19th\, from 10:00 AM to 2:00 PM on the Del Cafe. So\, mark your calendars and join us for a day filled with education\, innovation\, and inspiration!
URL:https://bme.buet.ac.bd/event/free-eye-camp-organized-by-bangladesh-eye-hospital-and-bme-buet/
LOCATION:Del Cafe\, Del Cafe\, BUET Main Campus\, Dhaka\, Bangladesh
CATEGORIES:Event
END:VEVENT
BEGIN:VEVENT
DTSTART;VALUE=DATE:20240524
DTEND;VALUE=DATE:20240526
DTSTAMP:20260423T060804
CREATED:20240504T152403Z
LAST-MODIFIED:20240504T152907Z
UID:7129-1716508800-1716681599@bme.buet.ac.bd
SUMMARY:Workshop on Laboratory Animal Experimentation for Biomedical Engineers (2 days long)
DESCRIPTION:EVENT DESCRIPTION  \nThe Department of Biomedical Engineering (BME)\, BUET\, will organize a Full-day technical workshop on Laboratory Animal Experimentation. \nOverview of the workshop: \n\nIntroduction to laboratory animal handling\nBlood withdrawal techniques\nAnesthesia administration\nWound model and thermal imaging\n\n\nRegistration Fee: \n\nTk. 4000/-\n\n\nVenue: \n\nDepartment of Biomedical Engineering\, BUET\n\n\nDate: \n\n24th (Friday) May 2024: 8:45 AM – 5:00 PM and 25th (Saturday) May 2024: 9:00 AM – 3:00 PM\n\n\nCourse Registration: \n\nMr Azad\, Ph: 01763423970/01912335557\n\n\nRegistration Link  \nhttps://docs.google.com/forms/d/e/1FAIpQLScR5DfC1zfn03NDwTXCrLnFvNTpHwozLXoFPJvVubhLu5wvOQ/viewform?usp=pp_url \nRegistration Deadline: \n\n20th May\, 2024\n\n\nCertificate will be awarded upon successful completion of the workshop\n 
URL:https://bme.buet.ac.bd/event/workshop-on-laboratory-animal-experimentation-for-biomedical-engineers-2-days-long/
LOCATION:Room 1014 \, 10th Floor\, ECE Building\, BUET\, Room 1014 \, 10th Floor\, ECE Building\, BUET\, Dhaka\, Bangladesh
CATEGORIES:Workshop
END:VEVENT
BEGIN:VEVENT
DTSTART;TZID=UTC:20240305T130000
DTEND;TZID=UTC:20240305T163000
DTSTAMP:20260423T060804
CREATED:20240304T185214Z
LAST-MODIFIED:20240322T083445Z
UID:6979-1709643600-1709656200@bme.buet.ac.bd
SUMMARY:Seminar on "Biomedical Engineering Innovation and Design for a Sustainable Healthcare System in Bangladesh"
DESCRIPTION:The Department of Biomedical Engineering (BME) at BUET is excited to announce a seminar on  “Biomedical Engineering Innovation and Design for a Sustainable Healthcare System in Bangladesh”  hosted by the Outcome Based Education Cell (OBE Cell)\, of the Department of Biomedical Engineering\, BUET. We’re thrilled to bring you a day filled with education\, innovation\, and inspiration as we explore the future of healthcare in Bangladesh. \n🕐 Date & Time: March 5th\, 2024\, from 01:00 pm to 4:15 pm\n🏢 Venue: ECE Building\, 10th floor\, Department of BME\, West Palashi Campus\, BUET \n🎙️ Esteemed Speakers: \n\nProf. Dr. Md. Shafiqul Alam Chowdhury\, Principal of Dhaka Medical College (Chief Guest)\nDr. Quazi Tarikul Islam\, Professor of Medicine at Popular Medical College (Special Guest)\nProf. Dr. Md. Nazmul Islam\, Line Director of Communicable Disease Control (CDC) at DGHS (Guest of Honor)\nProf. Dr. Abdul Jabbar Khan\, Pro-Vice-Chancellor of BUET (Chair)\n\nDon’t miss out on this incredible opportunity to learn about the latest advancements in biomedical engineering and their impact on shaping a sustainable healthcare system in Bangladesh. Mark your calendars\, and join us for a day of insightful discussions and networking! \n 
URL:https://bme.buet.ac.bd/event/free-eye-camp-and-bme-design-day-2/
LOCATION:10th floor of the ECE Building\, West Polashi Campus \,BUET\, Dhaka
CATEGORIES:Event
ATTACH;FMTTYPE=image/png:https://bme.buet.ac.bd/wp-content/uploads/2024/03/post.png
END:VEVENT
BEGIN:VEVENT
DTSTART;TZID=UTC:20240305T130000
DTEND;TZID=UTC:20240305T163000
DTSTAMP:20260423T060804
CREATED:20240304T184016Z
LAST-MODIFIED:20240304T184249Z
UID:6973-1709643600-1709656200@bme.buet.ac.bd
SUMMARY:BME Design Day 2024
DESCRIPTION:The Department of Biomedical Engineering (BME) at BUET is excited to announce the Capstone Project Showcasing event . This event is a platform for the department’s talented young engineers to showcase their innovative ideas and groundbreaking designs. Come witness the future of biomedical engineering and meet the brilliant minds behind these projects. \nSo\, mark your calendars and join us for a day filled with education\, innovation\, and inspiration!
URL:https://bme.buet.ac.bd/event/bme-design-day/
LOCATION:10th floor of the ECE Building\, West Polashi Campus \,BUET\, Dhaka
CATEGORIES:Event
ATTACH;FMTTYPE=image/png:https://bme.buet.ac.bd/wp-content/uploads/2024/03/Design-day.png
END:VEVENT
BEGIN:VEVENT
DTSTART;TZID=UTC:20230227T100000
DTEND;TZID=UTC:20230227T140000
DTSTAMP:20260423T060804
CREATED:20230224T135124Z
LAST-MODIFIED:20230224T135350Z
UID:6505-1677492000-1677506400@bme.buet.ac.bd
SUMMARY:Free EYE Camp and BME Design Day
DESCRIPTION:The Department of Biomedical Engineering (BME) at BUET is excited to announce two amazing events taking – a Free Eye Camp and the Capstone Project Showcase of BME 300 & 350. \nThe Free Eye Camp will feature a team of experienced eye specialists and doctors who will be present to perform a comprehensive eye check-up and provide you with the necessary guidance and recommendations. This is a wonderful opportunity to ensure your eye health\, so don’t miss out! The event is supported by Zeiss and Bangladesh Eye Hospital\, two leading names in the eye care industry. \n\nIn addition\, it’s also hosting the Capstone Project Showcase of BME 300 & 350. This event is a platform for department’s talented young engineers to showcase their innovative ideas and groundbreaking designs. Come witness the future of biomedical engineering and meet the brilliant minds behind these projects. \n \nBoth events will take place on Monday\, February 27th\, from 10:00 AM to 2:00 PM on the 10th floor of the ECE Building. So\, mark your calendars and join us for a day filled with education\, innovation\, and inspiration!
URL:https://bme.buet.ac.bd/event/free-eye-camp-and-bme-design-day/
LOCATION:10th floor of the ECE Building\, West Polashi Campus \,BUET\, Dhaka
CATEGORIES:Event
END:VEVENT
BEGIN:VEVENT
DTSTART;TZID=UTC:20230215T143000
DTEND;TZID=UTC:20230215T160000
DTSTAMP:20260423T060804
CREATED:20230215T000044Z
LAST-MODIFIED:20230215T054744Z
UID:6491-1676471400-1676476800@bme.buet.ac.bd
SUMMARY:PEEP-Alert: Developing a Monitor for Positive Pressure Respiration Support
DESCRIPTION:This talk describes the creation of a flow and pressure monitor to improve safety of positive-pressure respiration support. Reduced rates of intubation can be achieved with greater than 5 Positive End-Expiratory Pressure (PEEP). More than 30 PEEP will irreparably damage lungs. Helmet-based noninvasive ventilation has been shown to improve outcomes significantly over cannula\, mask therapies\, or even early ventilator application. When started early it can reduce the need for ventilators dramatically.\nWe identified monitoring helmet air-volume and pressure as a way to make the therapy safer and more comfortable for caregivers to administer. Our goal was to show caregivers that air was being safely supplied to a patient. We wanted to alert them of problems concerning adequate respiration flow and make sure the pressure is appropriate in the therapy.\nThis talk discusses the rapid formation of a company and product in response to COVID19\, how it was done cheaply\, and how such a complex hardware product could be tested\, approved\, and brought to patients in under 12 months. \n\n\n\n  \nTed Selker is an entrepreneur and inventor\, currently CTO of Alphyco creating a community based considerate social media for advancing women. Ted spent much of the first year of Covid19 working on the helmet based positive pressure respiration therapy and creating FDA approved PEEP-Alert to monitor it. Ted also is CEO of ultrascanguide.com a tomographic ultrasonic limb imaging company. Ted teaches at various universities and is currently publishing in usable\, and considerate technologies. An IBM Fellow\, his background also includes teaching at universities\, publication and supporting companies working on technologies as varied as solar energy\, shirt folding\, RFID and Mixed Reality.\n\n\nTed Selker is CTO of Alphyco.com creating Reflect a considerate communication support tool. Ted is an entrepreneur inventor who also mentors innovation. Ted’s academic positions at RIT and University of Maryland currently focus usable security and voting technology. Ted spent 5 years at at Carnegie Mellon University Silicon Valley as director Research on Accessible voting\, Considerate Systems research and in developing the campus’s research mission. Prior to that\, Ted spent 10 years as an associate Professor at the MIT Media Laboratory where he created the Context Aware Computing group\, co-directed the Caltech/MIT Voting Technology Project\, and directed the Industrial Design Intelligence future for product design project. Prior to that\, his successes at targeted product creation and enhancement at IBM earned him the role of IBM Fellow.\nTed’s work has birthed successful products ranging from notebook computers to operating systems. It has accumulated numerous awards\, patents\, and papers and has often been featured in the press. Ted was co-recipient of the Computer Science Policy Leader Award for Scientific American 50\, the American Association for People with Disabilities Thomas Paine Award for his work on voting technology and the Telluride Tech fest award.
URL:https://bme.buet.ac.bd/event/seminar-on-developing-a-monitor-for-positive-pressure-respiration-support/
LOCATION:BME Seminar Room\,10th Floor\, ECE Building\, BUET
CATEGORIES:Event
ATTACH;FMTTYPE=image/jpeg:https://bme.buet.ac.bd/wp-content/uploads/2022/04/WhatsApp-Image-2023-02-14-at-8.06.00-PM.jpeg
END:VEVENT
BEGIN:VEVENT
DTSTART;TZID=UTC:20221122T143000
DTEND;TZID=UTC:20221122T143000
DTSTAMP:20260423T060804
CREATED:20221118T053245Z
LAST-MODIFIED:20221118T053428Z
UID:6473-1669127400-1669127400@bme.buet.ac.bd
SUMMARY:Orientation Program of BME'21!
DESCRIPTION:Welcome BME’21! \nWe are very excited to formally welcome you to the department! See you at the orientation program on Tuesday\, 22nd November 2022 at 2:30 pm. \n 
URL:https://bme.buet.ac.bd/event/orientation-program-of-bme21/
LOCATION:Room 705\,IICT Conference Room\,ECE Building\,BUET
CATEGORIES:Event
ATTACH;FMTTYPE=image/jpeg:https://bme.buet.ac.bd/wp-content/uploads/2022/11/316035467_540544904748337_6310090476218013254_n.jpg
END:VEVENT
BEGIN:VEVENT
DTSTART;VALUE=DATE:20220830
DTEND;VALUE=DATE:20220831
DTSTAMP:20260423T060804
CREATED:20220829T122633Z
LAST-MODIFIED:20221118T054306Z
UID:6359-1661817600-1661903999@bme.buet.ac.bd
SUMMARY:Job Fair For Biomedical Engineers 2022
DESCRIPTION:Department of Biomedical Engineering\, BUET is excited to announce that we are hosting our first ever JOB FAIR tomorrow at our department premises! Three reputed companies will participate in this event. \nParticipating Companies: \n\n JMI Group\nIslam Oxygen Limited\n Incepta Hygiene & Hospicare Limited
URL:https://bme.buet.ac.bd/event/job-fair-for-biomedical-engineers-2022/
LOCATION:Medical Imaging Laboratory\, Room No.-1005\, Department of BME\, ECE Building\, BUET
CATEGORIES:Event
END:VEVENT
BEGIN:VEVENT
DTSTART;VALUE=DATE:20220325
DTEND;VALUE=DATE:20220326
DTSTAMP:20260423T060804
CREATED:20220419T043625Z
LAST-MODIFIED:20220419T044330Z
UID:5030-1648166400-1648252799@bme.buet.ac.bd
SUMMARY:Workshop on Biomaterials based Wet Lab (Full day)
DESCRIPTION:EVENT DESCRIPTION\nThe Department of Biomedical Engineering (BME)\, BUET will organize a Full-day Technical workshop on Biomaterials based wet lab.\nOverview of the workshop: \n\nIntroduction to wet-lab and biomaterials\nLab safety guidelines\nExplaining various laboratory techniques\nDemonstration of extraction of a biopolymer from natural source\nHands on training\n\nRegistration Fee: \n\nTk. 2\,500/- (For students)\nTk. 4000/- (For professionals)\n\nVenue: Department of Biomedical Engineering\, BUET \nDate: 25th (Friday) March 2022: 8:45 AM – 5:00 PM \n\n\n\n\nCertificate will be awarded upon successful completion of the workshop \nCourse Registration:\nMr Azad\, Ph: 01763423970/01912335557 \nRegistration Deadline: 15th January\, 2022
URL:https://bme.buet.ac.bd/event/workshop-on-biomaterials-based-wet-lab-full-day/
LOCATION:Room 1014 \, 10th Floor\, ECE Building\, BUET\, Room 1014 \, 10th Floor\, ECE Building\, BUET\, Dhaka\, Bangladesh
CATEGORIES:Workshop
END:VEVENT
BEGIN:VEVENT
DTSTART;VALUE=DATE:20220114
DTEND;VALUE=DATE:20220129
DTSTAMP:20260423T060805
CREATED:20220419T044005Z
LAST-MODIFIED:20220419T044035Z
UID:5032-1642118400-1643414399@bme.buet.ac.bd
SUMMARY:Technical Workshop on Dialysis Machine (3-days workshop)
DESCRIPTION:EVENT DESCRIPTION\nThe Department of Biomedical Engineering (BME)\, BUET will organize a 3-day Technical workshop on Dialysis Machines.\nOverview of the workshop: \n\nBasic and working principles of Hemodialysis\nDiscussion on dialysis circuits and operation\nDiscussion on maintenance\nUnderstanding the water quality\nHands on training\n\nRegistration Fee: \n\nTk. 8\,000/-\n\nVenue: Department of Biomedical Engineering\, BUET \nDate: \n\nDay 1: 14th January (Friday)\nDay 2: 21st January (Friday)\nDay 3: 28th January (Friday)\n\n\n\n\n\nCertificate will be awarded upon successful completion of the workshop \nCourse Registration:\nMr Azad\, Ph: 01763423970/01912335557 \nRegistration Deadline: 10th January\, 2022
URL:https://bme.buet.ac.bd/event/technical-workshop-on-dialysis-machine-3-days-workshop/
LOCATION:Room 1014 \, 10th Floor\, ECE Building\, BUET\, Room 1014 \, 10th Floor\, ECE Building\, BUET\, Dhaka\, Bangladesh
CATEGORIES:Workshop
END:VEVENT
BEGIN:VEVENT
DTSTART;VALUE=DATE:20210721
DTEND;VALUE=DATE:20210722
DTSTAMP:20260423T060805
CREATED:20220419T043350Z
LAST-MODIFIED:20220419T043411Z
UID:5027-1626825600-1626911999@bme.buet.ac.bd
SUMMARY:Post Graduate Orientation Program
DESCRIPTION:
URL:https://bme.buet.ac.bd/event/post-graduate-orientation-program/
LOCATION:Room 1014 \, 10th Floor\, ECE Building\, BUET\, Room 1014 \, 10th Floor\, ECE Building\, BUET\, Dhaka\, Bangladesh
CATEGORIES:Event
END:VEVENT
BEGIN:VEVENT
DTSTART;VALUE=DATE:20191219
DTEND;VALUE=DATE:20191220
DTSTAMP:20260423T060805
CREATED:20220419T034539Z
LAST-MODIFIED:20220419T034715Z
UID:5020-1576713600-1576799999@bme.buet.ac.bd
SUMMARY:Hands-on Training on Biomedical Engineering Simulations with COMSOL Multiphysics
DESCRIPTION:The Department of Biomedical Engineering (BME)\, BUET is organizing a two-day workshop on “Hands-on Training on Biomedical Engineering Simulations with COMSOL Multiphysics”. The workshop will be conducted by Dr. Jahid Ferdous\, Assistant Professor\, BME\, BUET. Dr. Ferdous completed his PhD from University of South Carolina\, USA and has several years of industry and academic experience on medical device design and simulations. He holds multiple publications and patents in his field of research. His research interests include Medical implant design and evaluation\, Drug development\, Biomechanics. \nEligibility \n\nAny Engineering students\, graduates\, and professionals.\n\nCourse Content \n\nBasics of COMSOL\n\nGeometry development\nModel setup\nMeshing\nSolver settings\nPost-Processing\n\n\nBasics of modeling in biological systems\n\nFluid Flow\nMass Transfer\nHeat Transfer\nBiomechanics\n\n\nHands-on simulation of several biomedical engineering case studies\n\n Registration Details: \n\nTk. 4\,000.00 (Student)\, Tk. 8\,000.00 (Professional)\nCapacity: 15* (*Min 8 participants)\nTotal Contact Hours:  8\nDate: 12-13 April 2019\nRegistration Deadline: 4/4/2019\nContact details: BME Office\, BUET (01763423970)
URL:https://bme.buet.ac.bd/event/hands-on-training-on-biomedical-engineering-simulations-with-comsol-multiphysics/
LOCATION:Room 1014 \, 10th Floor\, ECE Building\, BUET\, Room 1014 \, 10th Floor\, ECE Building\, BUET\, Dhaka\, Bangladesh
CATEGORIES:Event
ATTACH;FMTTYPE=image/jpeg:https://bme.buet.ac.bd/wp-content/uploads/2022/04/Slide1.jpg
END:VEVENT
BEGIN:VEVENT
DTSTART;VALUE=DATE:20191104
DTEND;VALUE=DATE:20191105
DTSTAMP:20260423T060805
CREATED:20220419T034946Z
LAST-MODIFIED:20220419T034946Z
UID:5024-1572825600-1572911999@bme.buet.ac.bd
SUMMARY:Seminar on Biomedical Engineering for Prospective Students
DESCRIPTION:Department of Biomedical Engineering is organizing a seminar for the prospective undergraduate students of session 2019 who have been selected for admission into BUET. The seminar will be held on Monday\, November 4th\, 2019 at 2:30 pm at the BME seminar Room\, 10th Floor\, ECE Building\, West Palashi\, BUET. You can bring along one guardian to accompany you. To participate please complete the registration form below. Your participation will be confirmed through the phone before the event. Note that the event is arranged exclusively for the students admitted to BUET in the session 2019. \nWe look forward to seeing you! \nFor any questions please contact: \nNavid Ibtehaj Nizam\, Assistant Professor\, BME.\nEmail: navid@bme.buet.ac.bd\nTelephone: +(880 2) 55167100 Ext. 6596
URL:https://bme.buet.ac.bd/event/seminar-on-biomedical-engineering-for-prospective-students/
LOCATION:Room 1014 \, 10th Floor\, ECE Building\, BUET\, Room 1014 \, 10th Floor\, ECE Building\, BUET\, Dhaka\, Bangladesh
CATEGORIES:Event
ATTACH;FMTTYPE=image/jpeg:https://bme.buet.ac.bd/wp-content/uploads/2022/04/BME-banner-dream-scaled-e1656868926947.jpg
END:VEVENT
BEGIN:VEVENT
DTSTART;VALUE=DATE:20181113
DTEND;VALUE=DATE:20181114
DTSTAMP:20260423T060805
CREATED:20220419T034309Z
LAST-MODIFIED:20220419T034309Z
UID:5017-1542067200-1542153599@bme.buet.ac.bd
SUMMARY:Four-Fold Resolution Increase in Single-Fiber Endoscopic Imaging
DESCRIPTION:A technical seminar on “Four-Fold Resolution Increase in Single-Fiber Endoscopic Imaging” will be held from 3.00 – 4.00 pm\, Tuesday\, 13th November 2018 in the Department of Biomedical Engineering\, BUET\, jointly organized by the Department of BME\, BUET and IEEE ComSoc BD Chapter. The talk will be presented by Dr. Joseph M. Kahn\, Professor\, E. L. Ginzton Laboratory\, Department of Electrical Engineering\, Stanford University\, CA\,USA. Dr. Kahn’s main fields of research include Single-Mode Fiber Communications\, Spatial Multiplexing and Multi-Mode Fiber Communications\, Multi-Mode Fiber Microscopy and Sensing\, Free-Space Optical Communications and Multi-Input Multi-Output Radio Communications. Dr. Khan applies principles of photonics\, signal processing\, communications and information theory to advance the performance of communication or imaging systems. \nJoseph M. Kahn received the A.B.\, M.A. and Ph.D. degrees in Physics from U.C. Berkeley in 1981\, 1983 and 1986\, respectively. From 1987-1990\, he was at AT&T Bell Laboratories\, Crawford Hill Laboratory\, in Holmdel\, NJ. He demonstrated multi-Gbit/s coherent optical fiber transmission systems\, setting world records for receiver sensitivity. From 1990-2003\, he was on the faculty of the Department of Electrical Engineering and Computer Sciences at U.C. Berkeley\, performing research on optical and wireless communications. Since 2003\, he has been a Professor of Electrical Engineering at Stanford University\, where he heads the Optical Communications Group. His current research interests include: fiber-based imaging\, spatial multiplexing\, rate-adaptive and spectrally efficient modulation and coding methods\, coherent detection and associated digital signal processing algorithms\, digital compensation of fiber nonlinearity\, and free-space systems. Professor Kahn received the National Science Foundation Presidential Young Investigator Award in 1991. He is a Fellow of the IEEE. From 1993-2000\, he served as a Technical Editor of IEEE Personal Communications Magazine. From 2009-2014\, he was an Associate Editor of IEEE/OSA Journal of Optical Communications and Networking. In 2000\, he helped found StrataLight Communications\, where he served as Chief Scientist from 2000-2003. StrataLight was acquired by Opnext\, Inc. in 2009.
URL:https://bme.buet.ac.bd/event/four-fold-resolution-increase-in-single-fiber-endoscopic-imaging/
LOCATION:Room 1014 \, 10th Floor\, ECE Building\, BUET\, Room 1014 \, 10th Floor\, ECE Building\, BUET\, Dhaka\, Bangladesh
CATEGORIES:Event
ATTACH;FMTTYPE=image/jpeg:https://bme.buet.ac.bd/wp-content/uploads/2022/04/jmk.small_.jpg
END:VEVENT
BEGIN:VEVENT
DTSTART;VALUE=DATE:20180428
DTEND;VALUE=DATE:20220419
DTSTAMP:20260423T060805
CREATED:20220418T100451Z
LAST-MODIFIED:20220419T034056Z
UID:5014-1524873600-1650326399@bme.buet.ac.bd
SUMMARY:BME Open Day 2018
DESCRIPTION:Department of Biomedical Engineering is delighted to announce that the first Biomedical Engineering (BME) Open Day is going to be organized for the students of session 2018 who have been selected for admission into BUET. Come along for an experience that will include project showcase by current students of BME\, lab tour and a seminar introducing the department. You can bring along one guardian to accompany you. To participate please complete the registration form below. Your participation will be confirmed through the phone before the event. \nWe look forward to welcoming you! \nFor any questions please contact: \nSaeedur Rahman\, Lecturer\, BME.\nEmail: saeed@bme.buet.ac.bd\nTelephone: +(880 2) 55167100 Ext. 6401
URL:https://bme.buet.ac.bd/event/bme-open-day-2018/
LOCATION:Room 1014 \, 10th Floor\, ECE Building\, BUET\, Room 1014 \, 10th Floor\, ECE Building\, BUET\, Dhaka\, Bangladesh
CATEGORIES:Event
ATTACH;FMTTYPE=image/png:https://bme.buet.ac.bd/wp-content/uploads/2022/04/drawing.png
END:VEVENT
BEGIN:VEVENT
DTSTART;VALUE=DATE:20180426
DTEND;VALUE=DATE:20180427
DTSTAMP:20260423T060805
CREATED:20220418T100151Z
LAST-MODIFIED:20220419T034110Z
UID:5007-1524700800-1524787199@bme.buet.ac.bd
SUMMARY:Biomedical Engineering Applications to the Study of Gait Control
DESCRIPTION:A technical seminar on “Biomedical Engineering Applications to the Study of Gait Control” will be held from 3.00 – 4.00 pm\, Thursday\, 26th April 2018 in the Department of Biomedical Engineering\, BUET. The talk will be presented by Dr. Rezaul Begg\, Chair\, Program in Assistive Technologies Innovation (PATI); Professor of Biomechanics\, College of Sport & Exercise Science\, Victoria University\, Australia. Dr. Begg’s main fields of research include Biomechanics\, Biomedical Engineering\, and Machine Learning. Dr. Begg focusses on developing new technologies and techniques with applications to human gait pathologies. These techniques have been utilized to minimize balance-loss and falls which can result from tripping or slipping across a range of populations. \nProfessor Rezaul Begg received his BSc and MSc in Electrical Engineering from Bangladesh University of Engineering and Technology (BUET) and a PhD in Biomedical Engineering from The University of Aberdeen\, UK. He is now Chair of the Program in Assistive Technologies Innovation (PATI) at Victoria University\, Australia. He leads a research group in Gait and Intelligent Technologies\, comprising 7 PhD students\, 4 postdoctoral research fellows and 6 senior research personnel. His research interests include Gait and Balance Biomechanics\, Exoskeletons\, Machine Learning and Wearable Sensors. He has over 250 research publications and 2 patents\, and his research is supported by the principal Australian Government Research funding agencies\, the Australian Research Council (ARC) and the National Health and Medical Research Council (NHMRC). He has received several awards for academic excellence\, including the ICISIP Best paper award\, VC’s citation award for excellence in research at Victoria University\, the BUET Gold medal and the Chancellor prize.
URL:https://bme.buet.ac.bd/event/biomedical-engineering-applications-to-the-study-of-gait-control/
LOCATION:Room 1014 \, 10th Floor\, ECE Building\, BUET\, Room 1014 \, 10th Floor\, ECE Building\, BUET\, Dhaka\, Bangladesh
CATEGORIES:Event
ATTACH;FMTTYPE=image/jpeg:https://bme.buet.ac.bd/wp-content/uploads/2022/04/seminar_26th-e1524753450877.jpg
END:VEVENT
BEGIN:VEVENT
DTSTART;VALUE=DATE:20171220
DTEND;VALUE=DATE:20171221
DTSTAMP:20260423T060805
CREATED:20220418T095858Z
LAST-MODIFIED:20220419T034116Z
UID:5002-1513728000-1513814399@bme.buet.ac.bd
SUMMARY:Solving Orthopaedic Clinical Challenges through Computational Biomechanics and Mechanotransduction Approach
DESCRIPTION:A technical seminar on “Solving Orthopaedic Clinical Challenges through Computational Biomechanics and Mechanotransduction Approach” was organized at 2 pm\, Wednesday\, 20th December 2017 in the Department of Biomedical Engineering\, BUET. The talk was presented by Mr. Tanvir Mustafy\, Ph.D. Candidate\, Department of Mechanical Engineering\, École Polytechnique de Montréal\, Montreal\, Québec\, Canada. Mr. Mustafy’s field of research is orthopedic biomechanics with a particular interest in Human Spine Modeling and mechanical regulation of growth and development of bone tissues for the orthopedic treatment of progressive musculoskeletal pathologies affecting infants and adolescents. In the seminar\, Mr. Mustafy talked about research advancements in the biomechanical modeling of the head-neck-cervical spine. He also discussed bone growth modulation by mechanical loading. \nIn addition to being a Ph.D. candidate in the Mechanical Engineering Department of École Polytechnique de Montréal\, Mr. Tanvir Mustafy is also working as a researcher in the Department of Pediatric Surgery at Sainte-Justine Hospital. He is a member of the Laboratoire De Mécanobiologie Pédiatrique research group at the Polytechnique Montréal. He obtained his M.Sc. in Civil and Environmental Engineering from the University of Alberta\, Canada in 2013. He received his B.Sc. in Civil and Environmental Engineering from Bangladesh University of Engineering and Technology (BUET)\, in 2011. \n  \n 
URL:https://bme.buet.ac.bd/event/solving-orthopaedic-clinical-challenges-through-computational-biomechanics-and-mechanotransduction-approach/
LOCATION:Room 1014 \, 10th Floor\, ECE Building\, BUET\, Room 1014 \, 10th Floor\, ECE Building\, BUET\, Dhaka\, Bangladesh
CATEGORIES:Event
ATTACH;FMTTYPE=image/jpeg:https://bme.buet.ac.bd/wp-content/uploads/2022/04/17bd234-e1524753523858.jpg
END:VEVENT
END:VCALENDAR