BEGIN:VCALENDAR
VERSION:2.0
PRODID:-//Biomedical Engineering | BUET - ECPv6.9.0//NONSGML v1.0//EN
CALSCALE:GREGORIAN
METHOD:PUBLISH
X-WR-CALNAME:Biomedical Engineering | BUET
X-ORIGINAL-URL:https://bme.buet.ac.bd
X-WR-CALDESC:Events for Biomedical Engineering | BUET
REFRESH-INTERVAL;VALUE=DURATION:PT1H
X-Robots-Tag:noindex
X-PUBLISHED-TTL:PT1H
BEGIN:VTIMEZONE
TZID:UTC
BEGIN:STANDARD
TZOFFSETFROM:+0000
TZOFFSETTO:+0000
TZNAME:UTC
DTSTART:20170101T000000
END:STANDARD
END:VTIMEZONE
BEGIN:VEVENT
DTSTART;VALUE=DATE:20191104
DTEND;VALUE=DATE:20191105
DTSTAMP:20260422T225755
CREATED:20220419T034946Z
LAST-MODIFIED:20220419T034946Z
UID:5024-1572825600-1572911999@bme.buet.ac.bd
SUMMARY:Seminar on Biomedical Engineering for Prospective Students
DESCRIPTION:Department of Biomedical Engineering is organizing a seminar for the prospective undergraduate students of session 2019 who have been selected for admission into BUET. The seminar will be held on Monday\, November 4th\, 2019 at 2:30 pm at the BME seminar Room\, 10th Floor\, ECE Building\, West Palashi\, BUET. You can bring along one guardian to accompany you. To participate please complete the registration form below. Your participation will be confirmed through the phone before the event. Note that the event is arranged exclusively for the students admitted to BUET in the session 2019. \nWe look forward to seeing you! \nFor any questions please contact: \nNavid Ibtehaj Nizam\, Assistant Professor\, BME.\nEmail: navid@bme.buet.ac.bd\nTelephone: +(880 2) 55167100 Ext. 6596
URL:https://bme.buet.ac.bd/event/seminar-on-biomedical-engineering-for-prospective-students/
LOCATION:Room 1014 \, 10th Floor\, ECE Building\, BUET\, Room 1014 \, 10th Floor\, ECE Building\, BUET\, Dhaka\, Bangladesh
CATEGORIES:Event
ATTACH;FMTTYPE=image/jpeg:https://bme.buet.ac.bd/wp-content/uploads/2022/04/BME-banner-dream-scaled-e1656868926947.jpg
END:VEVENT
BEGIN:VEVENT
DTSTART;VALUE=DATE:20181113
DTEND;VALUE=DATE:20181114
DTSTAMP:20260422T225756
CREATED:20220419T034309Z
LAST-MODIFIED:20220419T034309Z
UID:5017-1542067200-1542153599@bme.buet.ac.bd
SUMMARY:Four-Fold Resolution Increase in Single-Fiber Endoscopic Imaging
DESCRIPTION:A technical seminar on “Four-Fold Resolution Increase in Single-Fiber Endoscopic Imaging” will be held from 3.00 – 4.00 pm\, Tuesday\, 13th November 2018 in the Department of Biomedical Engineering\, BUET\, jointly organized by the Department of BME\, BUET and IEEE ComSoc BD Chapter. The talk will be presented by Dr. Joseph M. Kahn\, Professor\, E. L. Ginzton Laboratory\, Department of Electrical Engineering\, Stanford University\, CA\,USA. Dr. Kahn’s main fields of research include Single-Mode Fiber Communications\, Spatial Multiplexing and Multi-Mode Fiber Communications\, Multi-Mode Fiber Microscopy and Sensing\, Free-Space Optical Communications and Multi-Input Multi-Output Radio Communications. Dr. Khan applies principles of photonics\, signal processing\, communications and information theory to advance the performance of communication or imaging systems. \nJoseph M. Kahn received the A.B.\, M.A. and Ph.D. degrees in Physics from U.C. Berkeley in 1981\, 1983 and 1986\, respectively. From 1987-1990\, he was at AT&T Bell Laboratories\, Crawford Hill Laboratory\, in Holmdel\, NJ. He demonstrated multi-Gbit/s coherent optical fiber transmission systems\, setting world records for receiver sensitivity. From 1990-2003\, he was on the faculty of the Department of Electrical Engineering and Computer Sciences at U.C. Berkeley\, performing research on optical and wireless communications. Since 2003\, he has been a Professor of Electrical Engineering at Stanford University\, where he heads the Optical Communications Group. His current research interests include: fiber-based imaging\, spatial multiplexing\, rate-adaptive and spectrally efficient modulation and coding methods\, coherent detection and associated digital signal processing algorithms\, digital compensation of fiber nonlinearity\, and free-space systems. Professor Kahn received the National Science Foundation Presidential Young Investigator Award in 1991. He is a Fellow of the IEEE. From 1993-2000\, he served as a Technical Editor of IEEE Personal Communications Magazine. From 2009-2014\, he was an Associate Editor of IEEE/OSA Journal of Optical Communications and Networking. In 2000\, he helped found StrataLight Communications\, where he served as Chief Scientist from 2000-2003. StrataLight was acquired by Opnext\, Inc. in 2009.
URL:https://bme.buet.ac.bd/event/four-fold-resolution-increase-in-single-fiber-endoscopic-imaging/
LOCATION:Room 1014 \, 10th Floor\, ECE Building\, BUET\, Room 1014 \, 10th Floor\, ECE Building\, BUET\, Dhaka\, Bangladesh
CATEGORIES:Event
ATTACH;FMTTYPE=image/jpeg:https://bme.buet.ac.bd/wp-content/uploads/2022/04/jmk.small_.jpg
END:VEVENT
BEGIN:VEVENT
DTSTART;VALUE=DATE:20180428
DTEND;VALUE=DATE:20220419
DTSTAMP:20260422T225756
CREATED:20220418T100451Z
LAST-MODIFIED:20220419T034056Z
UID:5014-1524873600-1650326399@bme.buet.ac.bd
SUMMARY:BME Open Day 2018
DESCRIPTION:Department of Biomedical Engineering is delighted to announce that the first Biomedical Engineering (BME) Open Day is going to be organized for the students of session 2018 who have been selected for admission into BUET. Come along for an experience that will include project showcase by current students of BME\, lab tour and a seminar introducing the department. You can bring along one guardian to accompany you. To participate please complete the registration form below. Your participation will be confirmed through the phone before the event. \nWe look forward to welcoming you! \nFor any questions please contact: \nSaeedur Rahman\, Lecturer\, BME.\nEmail: saeed@bme.buet.ac.bd\nTelephone: +(880 2) 55167100 Ext. 6401
URL:https://bme.buet.ac.bd/event/bme-open-day-2018/
LOCATION:Room 1014 \, 10th Floor\, ECE Building\, BUET\, Room 1014 \, 10th Floor\, ECE Building\, BUET\, Dhaka\, Bangladesh
CATEGORIES:Event
ATTACH;FMTTYPE=image/png:https://bme.buet.ac.bd/wp-content/uploads/2022/04/drawing.png
END:VEVENT
BEGIN:VEVENT
DTSTART;VALUE=DATE:20180426
DTEND;VALUE=DATE:20180427
DTSTAMP:20260422T225756
CREATED:20220418T100151Z
LAST-MODIFIED:20220419T034110Z
UID:5007-1524700800-1524787199@bme.buet.ac.bd
SUMMARY:Biomedical Engineering Applications to the Study of Gait Control
DESCRIPTION:A technical seminar on “Biomedical Engineering Applications to the Study of Gait Control” will be held from 3.00 – 4.00 pm\, Thursday\, 26th April 2018 in the Department of Biomedical Engineering\, BUET. The talk will be presented by Dr. Rezaul Begg\, Chair\, Program in Assistive Technologies Innovation (PATI); Professor of Biomechanics\, College of Sport & Exercise Science\, Victoria University\, Australia. Dr. Begg’s main fields of research include Biomechanics\, Biomedical Engineering\, and Machine Learning. Dr. Begg focusses on developing new technologies and techniques with applications to human gait pathologies. These techniques have been utilized to minimize balance-loss and falls which can result from tripping or slipping across a range of populations. \nProfessor Rezaul Begg received his BSc and MSc in Electrical Engineering from Bangladesh University of Engineering and Technology (BUET) and a PhD in Biomedical Engineering from The University of Aberdeen\, UK. He is now Chair of the Program in Assistive Technologies Innovation (PATI) at Victoria University\, Australia. He leads a research group in Gait and Intelligent Technologies\, comprising 7 PhD students\, 4 postdoctoral research fellows and 6 senior research personnel. His research interests include Gait and Balance Biomechanics\, Exoskeletons\, Machine Learning and Wearable Sensors. He has over 250 research publications and 2 patents\, and his research is supported by the principal Australian Government Research funding agencies\, the Australian Research Council (ARC) and the National Health and Medical Research Council (NHMRC). He has received several awards for academic excellence\, including the ICISIP Best paper award\, VC’s citation award for excellence in research at Victoria University\, the BUET Gold medal and the Chancellor prize.
URL:https://bme.buet.ac.bd/event/biomedical-engineering-applications-to-the-study-of-gait-control/
LOCATION:Room 1014 \, 10th Floor\, ECE Building\, BUET\, Room 1014 \, 10th Floor\, ECE Building\, BUET\, Dhaka\, Bangladesh
CATEGORIES:Event
ATTACH;FMTTYPE=image/jpeg:https://bme.buet.ac.bd/wp-content/uploads/2022/04/seminar_26th-e1524753450877.jpg
END:VEVENT
BEGIN:VEVENT
DTSTART;VALUE=DATE:20171220
DTEND;VALUE=DATE:20171221
DTSTAMP:20260422T225756
CREATED:20220418T095858Z
LAST-MODIFIED:20220419T034116Z
UID:5002-1513728000-1513814399@bme.buet.ac.bd
SUMMARY:Solving Orthopaedic Clinical Challenges through Computational Biomechanics and Mechanotransduction Approach
DESCRIPTION:A technical seminar on “Solving Orthopaedic Clinical Challenges through Computational Biomechanics and Mechanotransduction Approach” was organized at 2 pm\, Wednesday\, 20th December 2017 in the Department of Biomedical Engineering\, BUET. The talk was presented by Mr. Tanvir Mustafy\, Ph.D. Candidate\, Department of Mechanical Engineering\, École Polytechnique de Montréal\, Montreal\, Québec\, Canada. Mr. Mustafy’s field of research is orthopedic biomechanics with a particular interest in Human Spine Modeling and mechanical regulation of growth and development of bone tissues for the orthopedic treatment of progressive musculoskeletal pathologies affecting infants and adolescents. In the seminar\, Mr. Mustafy talked about research advancements in the biomechanical modeling of the head-neck-cervical spine. He also discussed bone growth modulation by mechanical loading. \nIn addition to being a Ph.D. candidate in the Mechanical Engineering Department of École Polytechnique de Montréal\, Mr. Tanvir Mustafy is also working as a researcher in the Department of Pediatric Surgery at Sainte-Justine Hospital. He is a member of the Laboratoire De Mécanobiologie Pédiatrique research group at the Polytechnique Montréal. He obtained his M.Sc. in Civil and Environmental Engineering from the University of Alberta\, Canada in 2013. He received his B.Sc. in Civil and Environmental Engineering from Bangladesh University of Engineering and Technology (BUET)\, in 2011. \n  \n 
URL:https://bme.buet.ac.bd/event/solving-orthopaedic-clinical-challenges-through-computational-biomechanics-and-mechanotransduction-approach/
LOCATION:Room 1014 \, 10th Floor\, ECE Building\, BUET\, Room 1014 \, 10th Floor\, ECE Building\, BUET\, Dhaka\, Bangladesh
CATEGORIES:Event
ATTACH;FMTTYPE=image/jpeg:https://bme.buet.ac.bd/wp-content/uploads/2022/04/17bd234-e1524753523858.jpg
END:VEVENT
END:VCALENDAR